BEGIN:VCALENDAR
VERSION:2.0
PRODID:-//ChamberMaster//Event Calendar 2.0//EN
METHOD:PUBLISH
X-PUBLISHED-TTL:P3D
REFRESH-INTERVAL:P3D
CALSCALE:GREGORIAN
BEGIN:VEVENT
DTSTART:20260602T150000Z
DTEND:20260602T190000Z
X-MICROSOFT-CDO-ALLDAYEVENT:FALSE
SUMMARY:Youth Summer Education Program
DESCRIPTION:Program Overview\n\nCulture for Change presents a globally inspired Summer Education Program focused on cultural exploration\, youth empowerment\, and community engagement. With a mix of youth-led\, student-led\, and teacher-supported sessions\, this program offers a hands-on experience for youth ages 9 17.\n\nDaily Themes\n\n  Monday   Introduction to the Culture & Art: Creative arts and music from around the world\n\n  Tuesday   Food & Science: Cooking & fun experiments\n\n  Wednesday   Games & Engineering (STEM): Build\, test\, and play using logic and             engineering\n\n  Thursday   Community\, Movement & Showcase: physical activities\, dances & expression\, project givebacks\, walking gallery to showcase projects from the week\n \n\n\n	\n	Weekly Global Culture Themes:\n\n	Celebrating and learning about different cultures\n	\n\n\n  June 1-4: Welcome Week- Mexico/Aztec Culture\n\n  June 8-11: Space & Astrology\n\n  June 15-18: Asian Culture\n\n  June 22-25: Greek Mythology\n\n  June 29-July 2: American Culture\n\n  July 6-9: African Culture\n\n  July 13-16: Ocean/Polyneasian Culture\n\n  July 20-23: Deaf/Blind/Special Needs Culture\n\n  July 27-29: Pop Culture & Celebration/Giveback   Final showcase and certificate\n\nTo fill an application to enroll\, please come to the office on Mondays\, Wednesdays or Fridays between 9am-5pm.\n\nIncludes: snacks\, supplies\, instruction\, community projects\, and activities.\n\nEnrollment is limited to 10 kids per age group 9-11 years\, 12-14 years and 15-17years
X-ALT-DESC;FMTTYPE=text/html:<h2><strong>Program Overview</strong></h2>\n\n<p><span style="background-color:transparent\; color:rgb(0\, 0\, 0)\; font-family:arial\,sans-serif\; font-size:11pt">Culture for Change presents a globally inspired Summer Education Program focused on cultural exploration\, youth empowerment\, and community engagement. With a mix of youth-led\, student-led\, and teacher-supported sessions\, this program offers a hands-on experience for youth ages 9&ndash\;17.</span></p>\n\n<h2><strong>Daily Themes</strong></h2>\n\n<p><span style="background-color:transparent\; color:rgb(0\, 0\, 0)\; font-family:arial\,sans-serif\; font-size:11pt">&bull\; Monday &ndash\; Introduction to the Culture &amp\; Art: Creative arts and music from around the world</span></p>\n\n<p><span style="background-color:transparent\; color:rgb(0\, 0\, 0)\; font-family:arial\,sans-serif\; font-size:11pt">&bull\; Tuesday &ndash\; Food &amp\; Science: Cooking &amp\; fun experiments</span></p>\n\n<p><span style="background-color:transparent\; color:rgb(0\, 0\, 0)\; font-family:arial\,sans-serif\; font-size:11pt">&bull\; Wednesday &ndash\; Games &amp\; Engineering (STEM): Build\, test\, and play using logic and &nbsp\; &nbsp\; &nbsp\; &nbsp\; &nbsp\; &nbsp\; engineering</span></p>\n\n<p><span style="background-color:transparent\; color:rgb(0\, 0\, 0)\; font-family:arial\,sans-serif\; font-size:11pt">&bull\; Thursday &ndash\; Community\, Movement &amp\; Showcase: physical activities\, dances &amp\; expression\, project givebacks\, walking gallery to showcase projects from the week</span></p>\n&nbsp\;\n\n<ul>\n	<li>\n	<h2><strong>Weekly Global Culture Themes:</strong><br />\n	<span style="background-color:transparent\; font-family:calibri\,sans-serif\; font-size:12pt">Celebrating and learning about different cultures</span></h2>\n	</li>\n</ul>\n\n<p><span style="background-color:transparent\; color:rgb(0\, 0\, 0)\; font-family:arial\,sans-serif\; font-size:11pt">&bull\; June 1-4: Welcome Week- Mexico/Aztec Culture</span></p>\n\n<p><span style="background-color:transparent\; color:rgb(0\, 0\, 0)\; font-family:arial\,sans-serif\; font-size:11pt">&bull\; June 8-11: Space &amp\; Astrology</span></p>\n\n<p><span style="background-color:transparent\; color:rgb(0\, 0\, 0)\; font-family:arial\,sans-serif\; font-size:11pt">&bull\; June 15-18: Asian Culture</span></p>\n\n<p><span style="background-color:transparent\; color:rgb(0\, 0\, 0)\; font-family:arial\,sans-serif\; font-size:11pt">&bull\; June 22-25: Greek Mythology</span></p>\n\n<p><span style="background-color:transparent\; color:rgb(0\, 0\, 0)\; font-family:arial\,sans-serif\; font-size:11pt">&bull\; June 29-July 2: American Culture</span></p>\n\n<p><span style="background-color:transparent\; color:rgb(0\, 0\, 0)\; font-family:arial\,sans-serif\; font-size:11pt">&bull\; July 6-9: African Culture</span></p>\n\n<p><span style="background-color:transparent\; color:rgb(0\, 0\, 0)\; font-family:arial\,sans-serif\; font-size:11pt">&bull\; July 13-16: Ocean/Polyneasian Culture</span></p>\n\n<p><span style="background-color:transparent\; color:rgb(0\, 0\, 0)\; font-family:arial\,sans-serif\; font-size:11pt">&bull\; July 20-23: Deaf/Blind/Special Needs Culture</span></p>\n\n<p><span style="background-color:transparent\; color:rgb(0\, 0\, 0)\; font-family:arial\,sans-serif\; font-size:11pt">&bull\; July 27-29: Pop Culture &amp\; Celebration/Giveback &ndash\; Final showcase and certificate</span></p>\n\n<p><span style="background-color:transparent\; color:rgb(0\, 0\, 0)\; font-family:arial\,sans-serif\; font-size:11pt">To fill an application to enroll\, please come to the office on Mondays\, Wednesdays or Fridays between 9am-5pm.</span></p>\n\n<p><span style="background-color:transparent\; color:rgb(0\, 0\, 0)\; font-family:arial\,sans-serif\; font-size:11pt">Includes: snacks\, supplies\, instruction\, community projects\, and activities.</span><br />\n<span style="background-color:transparent\; color:rgb(0\, 0\, 0)\; font-family:arial\,sans-serif\; font-size:11pt">Enrollment is limited to 10 kids per age group 9-11 years\, 12-14 years and 15-17years</span></p>\n
LOCATION:202 SHOSHONE ST N TWINFALLS ID
UID:e.1192.9139
SEQUENCE:3
DTSTAMP:20260421T015934Z
URL:http://members.twinfallschamber.com/events/details/youth-summer-education-program-9139
END:VEVENT

END:VCALENDAR
