BEGIN:VCALENDAR
VERSION:2.0
PRODID:-//ChamberMaster//Event Calendar 2.0//EN
METHOD:PUBLISH
X-PUBLISHED-TTL:P3D
REFRESH-INTERVAL:P3D
CALSCALE:GREGORIAN
BEGIN:VEVENT
DTSTART:20211214T190000Z
DTEND:20211214T200000Z
X-MICROSOFT-CDO-ALLDAYEVENT:FALSE
SUMMARY:Twin Falls Today Luncheon December sponsored by BBSI
DESCRIPTION:Twin Falls Today Luncheon December sponsored by BBSI
X-ALT-DESC;FMTTYPE=text/html:Twin Falls Today Luncheon December sponsored by BBSI
LOCATION:Stone House & Co. 330 4th Ave. S.
UID:e.1192.6732
SEQUENCE:3
DTSTAMP:20260423T142913Z
URL:http://members.twinfallschamber.com/events/details/twin-falls-today-luncheon-december-sponsored-by-bbsi-6732
END:VEVENT

END:VCALENDAR
