BEGIN:VCALENDAR
VERSION:2.0
PRODID:-//ChamberMaster//Event Calendar 2.0//EN
METHOD:PUBLISH
X-PUBLISHED-TTL:P3D
REFRESH-INTERVAL:P3D
CALSCALE:GREGORIAN
BEGIN:VEVENT
DTSTART:20191210T190000Z
DTEND:20191210T200000Z
X-MICROSOFT-CDO-ALLDAYEVENT:FALSE
SUMMARY:Twin Falls Today Luncheon December 2019
DESCRIPTION:Twin Falls Today Luncheon Sponsored by BBSI
X-ALT-DESC;FMTTYPE=text/html:Twin Falls Today Luncheon Sponsored by BBSI
LOCATION:The Stonehouse 330 4th Ave S.
UID:e.1192.6069
SEQUENCE:3
DTSTAMP:20260422T190356Z
URL:http://members.twinfallschamber.com/events/details/twin-falls-today-luncheon-december-2019-6069
END:VEVENT

END:VCALENDAR
