BEGIN:VCALENDAR
VERSION:2.0
PRODID:-//ChamberMaster//Event Calendar 2.0//EN
METHOD:PUBLISH
X-PUBLISHED-TTL:P3D
REFRESH-INTERVAL:P3D
CALSCALE:GREGORIAN
BEGIN:VEVENT
DTSTART:20191206T190000Z
DTEND:20191207T190000Z
X-MICROSOFT-CDO-ALLDAYEVENT:FALSE
SUMMARY:The Nutcracker
DESCRIPTION:Enhance your holiday season with a timeless classic   the Nutcracker Ballet\, an annual tradition for families around the world. With its imaginative story line\, colorful sets\, dazzling costumes and magical dancing\, Tchaikovsky''s Nutcracker is a Christmas treat not to be missed! The Eugene Ballet offers up this colorful confection complete with Sugar Plum Fairies\, magical mice\, toys that come to life and more. Follow the dancers as they shed the confines of the theater and bring "The Nutcracker" to life in Twin Falls. This performance also features the talents of 50 local children in such clever disguises as Baby Mice\, Angels\, and Flowers. Fans of this holiday favorite will enjoy this magnificent show.
X-ALT-DESC;FMTTYPE=text/html:<span style="font-family:arial\,sans-serif\; font-size:12pt">Enhance your holiday season with a timeless classic &ndash\; the Nutcracker Ballet\, an annual tradition for families around the world. With its imaginative story line\, colorful sets\, dazzling costumes and magical dancing\, Tchaikovsky&#39\;&#39\;s Nutcracker is a Christmas treat not to be missed!&nbsp\;The Eugene Ballet offers up this colorful confection complete with Sugar Plum Fairies\, magical mice\, toys that come to life and more. Follow the dancers as they shed the confines of the theater and bring &quot\;The Nutcracker&quot\; to life in Twin Falls.&nbsp\;This performance also features the talents of 50 local children in such clever disguises as Baby Mice\, Angels\, and Flowers.&nbsp\;Fans of this holiday favorite will enjoy this magnificent show.&nbsp\;</span>
LOCATION:CSI Fine Arts Auditorium
UID:e.1192.5545
SEQUENCE:3
DTSTAMP:20260422T202518Z
URL:http://members.twinfallschamber.com/events/details/the-nutcracker-12-06-2019-5545
END:VEVENT

END:VCALENDAR
