BEGIN:VCALENDAR
VERSION:2.0
PRODID:-//ChamberMaster//Event Calendar 2.0//EN
METHOD:PUBLISH
X-PUBLISHED-TTL:P3D
REFRESH-INTERVAL:P3D
CALSCALE:GREGORIAN
BEGIN:VEVENT
DTSTART;VALUE=DATE:20191016
DTEND;VALUE=DATE:20191017
TRANSP:TRANSPARENT
X-MICROSOFT-CDO-ALLDAYEVENT:TRUE
SUMMARY:Sweet Magic Valley
DESCRIPTION:Twin Falls sits in the center of one of the most productive agricultural regions in the world. More than 500\,000 acres are farmed and ranched in the six Magic Valley counties   generating billions of dollars annually in crop production\, food processing\, research and development\, and supportive industries.\n\nJoin us in learning just a little more about our amazing Valley. This years focus will be on Sugar and Beekeeping.
X-ALT-DESC;FMTTYPE=text/html:<span style="font-size:14.0pt\;">Twin Falls sits in the center of one of the most productive agricultural regions in the world. More than 500\,000 acres are farmed and ranched in the six Magic Valley counties &ndash\; generating billions of dollars annually in crop production\, food processing\, research and development\, and supportive industries.<br />\nJoin us in learning just a little more about our amazing Valley. This years focus will be on Sugar and Beekeeping.</span>
LOCATION:Sweet Magic Valley October 16\, 2019 Agenda Subject to Change 7:30am Meet Twin Falls Chamber of Commerce Meet and Greet 8:30 Board Bus 9:00am Tubbs Berry Farms Kirk Tubbs 10:00 am Board Bus 10:30 am Cold Bee Storage Israel Bravo 11am Board Bus 11:30 Farm Bureau Lunch Speaker 12:30 Board Bus 1pm - 4pm 1 p.m. 4 p.m. Amalgamated Sugar (Tour will include 2 hours at the factory and approximately 1 hour at the ARI Research Center across the road.) 4pm Board Bus 4:30pm Arrive at Twin Falls Chamber of Commerce
UID:e.1192.5953
SEQUENCE:3
DTSTAMP:20260422T215741Z
URL:http://members.twinfallschamber.com/events/details/sweet-magic-valley-5953
END:VEVENT

END:VCALENDAR
