BEGIN:VCALENDAR
VERSION:2.0
PRODID:-//ChamberMaster//Event Calendar 2.0//EN
METHOD:PUBLISH
X-PUBLISHED-TTL:P3D
REFRESH-INTERVAL:P3D
CALSCALE:GREGORIAN
BEGIN:VEVENT
DTSTART:20191219T180000Z
DTEND:20191219T183000Z
X-MICROSOFT-CDO-ALLDAYEVENT:FALSE
SUMMARY:Ribbon Cutting for My Lazy Keto Kitchen
DESCRIPTION:Ribbon Cutting for My Lazy Keto Kitchen come and welcome the new Chamber Members
X-ALT-DESC;FMTTYPE=text/html:Ribbon Cutting for My Lazy Keto Kitchen come and welcome the new Chamber Members&nbsp\;
LOCATION:113 Main St. Kimberly Id\, 83341
UID:e.1192.6085
SEQUENCE:3
DTSTAMP:20260422T190442Z
URL:http://members.twinfallschamber.com/events/details/ribbon-cutting-for-my-lazy-keto-kitchen-6085
END:VEVENT

END:VCALENDAR
