BEGIN:VCALENDAR
VERSION:2.0
PRODID:-//ChamberMaster//Event Calendar 2.0//EN
METHOD:PUBLISH
X-PUBLISHED-TTL:P3D
REFRESH-INTERVAL:P3D
CALSCALE:GREGORIAN
BEGIN:VEVENT
DTSTART:20191213T170000Z
DTEND:20191213T173000Z
X-MICROSOFT-CDO-ALLDAYEVENT:FALSE
SUMMARY:Ribbon Cutting for Idaho Women Business Center
DESCRIPTION:Join the Twin Falls Chamber of Commerce in welcoming the Idaho Women's Business Center to the Magic Valley. Meet the IWBC staff\, see the new office and learn of the resources available to women in business.
X-ALT-DESC;FMTTYPE=text/html:Join the Twin Falls Chamber of Commerce in welcoming the Idaho Women&#39\;s Business Center to the Magic Valley. Meet the IWBC staff\, see the new office and learn of the resources available to women in business.&nbsp\;
LOCATION:650 Addison Ave W Twin Falls South Entrance aka Veteran's service Entrance In the Conference Room
UID:e.1192.6083
SEQUENCE:3
DTSTAMP:20260422T190922Z
URL:http://members.twinfallschamber.com/events/details/ribbon-cutting-for-idaho-women-business-center-6083
END:VEVENT

END:VCALENDAR
