BEGIN:VCALENDAR
VERSION:2.0
PRODID:-//ChamberMaster//Event Calendar 2.0//EN
METHOD:PUBLISH
X-PUBLISHED-TTL:P3D
REFRESH-INTERVAL:P3D
CALSCALE:GREGORIAN
BEGIN:VEVENT
DTSTART:20191218T190000Z
DTEND:20191218T193000Z
X-MICROSOFT-CDO-ALLDAYEVENT:FALSE
SUMMARY:Ribbon Cutting for Adair Homes
DESCRIPTION:Join us on December 18th the Twin Falls Chamber of Commerce to celebrate the Grand Opening and enjoy treats and beverages! Take a tour of our stunning design center to see some of the fixtures and finishes available to you when you build with Adair. Don't miss this opportunity to talk with industry experts\, learn more about the custom home-building process\, and find out how Adair Homes makes it affordable and easy to build the home of your dreams.
X-ALT-DESC;FMTTYPE=text/html:<span style="color: rgb(29\, 33\, 41)\; font-family: Helvetica\, Arial\, sans-serif\; font-size: 14px\; white-space: pre-wrap\; background-color: rgb(255\, 255\, 255)\;">Join us on December 18th the Twin Falls Chamber of Commerce to celebrate the Grand Opening and enjoy treats and beverages! Take a tour of our stunning design center to see some of the fixtures and finishes available to you when you build with Adair. Don&#39\;t miss this opportunity to talk with industry experts\, learn more about the custom home-building process\, and find out how Adair Homes makes it affordable and easy to build the home of your dreams. </span>
LOCATION:509 Blue Lakes Blvd #2
UID:e.1192.6084
SEQUENCE:3
DTSTAMP:20260422T190427Z
URL:http://members.twinfallschamber.com/events/details/ribbon-cutting-for-adair-homes-6084
END:VEVENT

END:VCALENDAR
