BEGIN:VCALENDAR
VERSION:2.0
PRODID:-//ChamberMaster//Event Calendar 2.0//EN
METHOD:PUBLISH
X-PUBLISHED-TTL:P3D
REFRESH-INTERVAL:P3D
CALSCALE:GREGORIAN
BEGIN:VEVENT
DTSTART;VALUE=DATE:20191123
DTEND;VALUE=DATE:20191124
TRANSP:TRANSPARENT
X-MICROSOFT-CDO-ALLDAYEVENT:TRUE
SUMMARY:Festival of Giving's BBQ\,
DESCRIPTION:Tickets for the Magic Valley Festival of Giving are selling quickly!\n\nDon't miss your opportunity to enjoy a festive evening to support 30 area nonprofits. \n\nBuy your event tickets online at www.MagicValleyFestivalOfGiving.org\n\nBBQ\, Brews & Bids\n\nSaturday\, November 23 | 7:00pm\n\nWe crank up the fun factor at with BBQ\, Brews and Bids. This is a high energy night of Live Music\, Great BBQ. Local Spirits and Fundraising. We invited Big Fatty's BBQ\, KOTO Brewery\, and Holesinsky Winery to provide great food and beverages. Get ready to throw that bid number in the air with a live auction and silent auctions in support of 30+ local charities.\n\nTitle Sponsors are Farmers bank and Fleur de Lis Ranch.
X-ALT-DESC;FMTTYPE=text/html:<span style="color:green"><span style="font-family:arial\,sans-serif"><span style="font-size:24.0pt">Tickets for the <strong><em>Magic Valley</em></strong> <strong><em><span style="font-family:arial\,sans-serif">Festival of Giving </span></em></strong><strong><span style="font-family:arial\,sans-serif">are selling quickly</span></strong>!</span></span></span><br />\n<span style="color:red"><span style="font-family:arial\,sans-serif"><span style="font-size:36.0pt">Don&rsquo\;t miss your opportunity to enjoy a festive evening to support 30 area nonprofits. </span></span></span><br />\n<span style="color:green"><span style="font-family:arial\,sans-serif"><span style="font-size:18.0pt">Buy your event tickets online at <a href="http://www.MagicValleyFestivalOfGiving.org">www.MagicValleyFestivalOfGiving.org</a></span></span></span><br />\n<span style="color:green"><span style="font-family:arial\,sans-serif"><span style="font-size:36.0pt">BBQ\, Brews &amp\; Bids</span></span></span><br />\n<span style="color:green"><span style="font-family:arial\,sans-serif"><span style="font-size:24.0pt">Saturday\, November 23&nbsp\;| 7:00pm</span></span></span><br />\n<span style="color:green"><span style="font-family:arial\,sans-serif"><span style="font-size:14.0pt">We crank up the fun factor at with BBQ\, Brews and Bids. This is a high energy night of Live Music\, Great BBQ. Local Spirits and Fundraising. We invited&nbsp\;Big Fatty&rsquo\;s BBQ\, KOTO Brewery\, and Holesinsky Winery to provide great food and beverages. Get ready to throw that bid number in the air with a live auction and silent auctions in support of 30+ local charities</span></span></span><span style="color:#333333"><span style="font-family:arial\,sans-serif"><span style="font-size:14.0pt">.</span></span></span><br />\n<span style="color:red"><span style="font-family:arial\,sans-serif"><span style="font-size:14.0pt">Title Sponsors are Farmers bank and Fleur de Lis Ranch.</span></span></span>
LOCATION:
UID:e.1192.6059
SEQUENCE:3
DTSTAMP:20260422T220640Z
URL:http://members.twinfallschamber.com/events/details/festival-of-giving-s-bbq-6059
END:VEVENT

END:VCALENDAR
