BEGIN:VCALENDAR
VERSION:2.0
PRODID:-//ChamberMaster//Event Calendar 2.0//EN
METHOD:PUBLISH
X-PUBLISHED-TTL:P3D
REFRESH-INTERVAL:P3D
CALSCALE:GREGORIAN
BEGIN:VEVENT
DTSTART:20191220T003000Z
DTEND:20191220T020000Z
X-MICROSOFT-CDO-ALLDAYEVENT:FALSE
SUMMARY:Business After Hours Twin Falls Chamber
DESCRIPTION:Business After Hours\n\nSponsored by Twin Falls Chamber of Commerce
X-ALT-DESC;FMTTYPE=text/html:Business After Hours<br />\nSponsored by Twin Falls Chamber of Commerce
LOCATION:Soran's Turf Club - 734 Falls Ave\, Twin Falls\, ID 83301
UID:e.1192.6081
SEQUENCE:3
DTSTAMP:20260422T190510Z
URL:http://members.twinfallschamber.com/events/details/business-after-hours-twin-falls-chamber-6081
END:VEVENT

END:VCALENDAR
