BEGIN:VCALENDAR
VERSION:2.0
PRODID:-//ChamberMaster//Event Calendar 2.0//EN
METHOD:PUBLISH
X-PUBLISHED-TTL:P3D
REFRESH-INTERVAL:P3D
CALSCALE:GREGORIAN
BEGIN:VEVENT
DTSTART:20260528T233000Z
DTEND:20260529T010000Z
X-MICROSOFT-CDO-ALLDAYEVENT:FALSE
SUMMARY:Business After Hours Sponsored by Float Magic
DESCRIPTION:Business After Hours Sponsored by Float Magic
X-ALT-DESC;FMTTYPE=text/html:Business After Hours Sponsored by Float Magic
LOCATION:152 2nd Ave. S
UID:e.1192.9183
SEQUENCE:3
DTSTAMP:20260421T232945Z
URL:http://members.twinfallschamber.com/events/details/business-after-hours-sponsored-by-float-magic-9183
END:VEVENT

END:VCALENDAR
